BEGIN:VCALENDAR
VERSION:2.0
PRODID:-//habitatindiana.org//NONSGML kigkonsult.se iCalcreator 2.30.10//
CALSCALE:GREGORIAN
METHOD:PUBLISH
UID:30bcb294-7651-44b5-95eb-b13e222cbe2a
X-WR-CALDESC:
X-WR-RELCALID:8c99f3479e8d4d5e8b6d21179699dd95
X-WR-TIMEZONE:America/New_York
BEGIN:VTIMEZONE
TZID:America/New_York
BEGIN:STANDARD
TZNAME:EST
DTSTART:20251102T020000
TZOFFSETFROM:-0400
TZOFFSETTO:-0500
RDATE:20261101T020000
END:STANDARD
BEGIN:DAYLIGHT
TZNAME:EDT
DTSTART:20250309T020000
TZOFFSETFROM:-0500
TZOFFSETTO:-0400
RDATE:20260308T020000
RDATE:20270314T020000
END:DAYLIGHT
END:VTIMEZONE
BEGIN:VEVENT
UID:641a7e2f-e6d7-4b32-bb08-842f27dd4d19
DTSTAMP:20260420T101957Z
DESCRIPTION:
DTSTART;TZID=America/New_York:20260114T090000
DTEND;TZID=America/New_York:20260114T100000
LOCATION:https://teams.microsoft.com/l/meetup-join/19%3ameeting_NzBmZmU3MzA
 tZmQyNy00N2IwLThlNmUtMjhhZmViZTRiNWZk%40thread.v2/0?context=%7b%22Tid%22%3
 a%22ab4ff609-d738-485b-89c2-c933f361cb5e%22%2c%22Oid%22%3a%22f0567de0-c751
 -4758-86fa-9831bc9be693%22%7d
SUMMARY:Small Shop Affinity Group
END:VEVENT
END:VCALENDAR
