BEGIN:VCALENDAR
VERSION:2.0
PRODID:-//habitatindiana.org//NONSGML kigkonsult.se iCalcreator 2.30.10//
CALSCALE:GREGORIAN
METHOD:PUBLISH
UID:e0c32a89-7b67-40cd-a989-f625c0780a48
X-WR-CALDESC:
X-WR-RELCALID:48781b12dca4e0cc7a0c3a90b8c7f0c6
X-WR-TIMEZONE:America/New_York
BEGIN:VTIMEZONE
TZID:America/New_York
BEGIN:STANDARD
TZNAME:EST
DTSTART:20251102T020000
TZOFFSETFROM:-0400
TZOFFSETTO:-0500
RDATE:20261101T020000
END:STANDARD
BEGIN:DAYLIGHT
TZNAME:EDT
DTSTART:20250309T020000
TZOFFSETFROM:-0500
TZOFFSETTO:-0400
RDATE:20260308T020000
RDATE:20270314T020000
END:DAYLIGHT
END:VTIMEZONE
BEGIN:VEVENT
UID:f99c71c3-3efc-4f26-81b6-c1738ed0c30a
DTSTAMP:20260420T100950Z
DESCRIPTION:
DTSTART;TZID=America/New_York:20260128T100000
DTEND;TZID=America/New_York:20260128T140000
LOCATION:K21 Health Foundation\, 1101 Park Avenue\, Winona Lake\, IN 46590 
 US
SUMMARY:Northern Affiliate Leadership Meeting
END:VEVENT
END:VCALENDAR
