BEGIN:VCALENDAR
VERSION:2.0
PRODID:-//habitatindiana.org//NONSGML kigkonsult.se iCalcreator 2.30.10//
CALSCALE:GREGORIAN
METHOD:PUBLISH
UID:4380630c-b01d-4069-ae59-679005775d11
X-WR-CALDESC:The quarterly affiliate call is a great way to keep in touch w
 ith your fellow affiliate leaders. It will cover a variety of subjects.
X-WR-RELCALID:612e6f95412f819b01e5b567fbe0979f
X-WR-TIMEZONE:America/New_York
BEGIN:VTIMEZONE
TZID:America/New_York
BEGIN:STANDARD
TZNAME:EST
DTSTART:20251102T020000
TZOFFSETFROM:-0400
TZOFFSETTO:-0500
RDATE:20261101T020000
RDATE:20271107T020000
END:STANDARD
BEGIN:DAYLIGHT
TZNAME:EDT
DTSTART:20260308T020000
TZOFFSETFROM:-0500
TZOFFSETTO:-0400
RDATE:20270314T020000
END:DAYLIGHT
END:VTIMEZONE
BEGIN:VEVENT
UID:055047bc-d43d-4a27-9c43-b7531e132ff0
DTSTAMP:20260420T101503Z
DESCRIPTION:The quarterly affiliate call is a great way to keep in touch wi
 th your fellow affiliate leaders. It will cover a variety of subjects.
DTSTART;TZID=America/New_York:20260515T120000
DTEND;TZID=America/New_York:20260515T130000
LOCATION:https://teams.microsoft.com/l/meetup-join/19%3ameeting_M2FlNGQ3NzU
 tOTI0Ni00YzlhLWJkOTEtMWU5YjBkMWI5N2Y0%40thread.v2/0?context=%7b%22Tid%22%3
 a%22ab4ff609-d738-485b-89c2-c933f361cb5e%22%2c%22Oid%22%3a%224f558252-be0a
 -4502-9c21-63dcc46379e0%22%7d
SUMMARY:Affiliate Quarterly Call
END:VEVENT
END:VCALENDAR
